BEGIN:VCALENDAR
VERSION:2.0
PRODID:-//Masci Umbria - ECPv6.15.20//NONSGML v1.0//EN
CALSCALE:GREGORIAN
METHOD:PUBLISH
X-WR-CALNAME:Masci Umbria
X-ORIGINAL-URL:https://www.masciumbria.org
X-WR-CALDESC:Eventi per Masci Umbria
REFRESH-INTERVAL;VALUE=DURATION:PT1H
X-Robots-Tag:noindex
X-PUBLISHED-TTL:PT1H
BEGIN:VTIMEZONE
TZID:UTC
BEGIN:STANDARD
TZOFFSETFROM:+0000
TZOFFSETTO:+0000
TZNAME:UTC
DTSTART:20250101T000000
END:STANDARD
END:VTIMEZONE
BEGIN:VEVENT
DTSTART;TZID=UTC:20260410T000000
DTEND;TZID=UTC:20260410T000000
DTSTAMP:20260421T125505
CREATED:20260421T062034Z
LAST-MODIFIED:20260421T063030Z
UID:1923-1775779200-1775779200@www.masciumbria.org
SUMMARY:Campo Bibbia
DESCRIPTION:
URL:https://www.masciumbria.org/event/campo-bibbia/
END:VEVENT
BEGIN:VEVENT
DTSTART;TZID=UTC:20260429T000000
DTEND;TZID=UTC:20260429T000000
DTSTAMP:20260421T125505
CREATED:20260421T062034Z
LAST-MODIFIED:20260421T063030Z
UID:1924-1777420800-1777420800@www.masciumbria.org
SUMMARY:tavola rotonda
DESCRIPTION:
URL:https://www.masciumbria.org/event/tavola-rotonda/
END:VEVENT
BEGIN:VEVENT
DTSTART;TZID=UTC:20260515T000000
DTEND;TZID=UTC:20260515T000000
DTSTAMP:20260421T125505
CREATED:20260421T063030Z
LAST-MODIFIED:20260421T063030Z
UID:1974-1778803200-1778803200@www.masciumbria.org
SUMMARY:Comitato Esecutivo
DESCRIPTION:
URL:https://www.masciumbria.org/event/comitato-esecutivo-5/
END:VEVENT
BEGIN:VEVENT
DTSTART;TZID=UTC:20260530T000000
DTEND;TZID=UTC:20260530T000000
DTSTAMP:20260421T125505
CREATED:20260421T062035Z
LAST-MODIFIED:20260421T063030Z
UID:1926-1780099200-1780099200@www.masciumbria.org
SUMMARY:Route Piemonte
DESCRIPTION:
URL:https://www.masciumbria.org/event/route-piemonte/
END:VEVENT
BEGIN:VEVENT
DTSTART;TZID=UTC:20260602T000000
DTEND;TZID=UTC:20260602T000000
DTSTAMP:20260421T125505
CREATED:20260421T062050Z
LAST-MODIFIED:20260421T063045Z
UID:1927-1780358400-1780358400@www.masciumbria.org
SUMMARY:staffetta segretari 80/800
DESCRIPTION:
URL:https://www.masciumbria.org/event/staffetta-segretari-80-800/
END:VEVENT
BEGIN:VEVENT
DTSTART;TZID=UTC:20260612T000000
DTEND;TZID=UTC:20260612T000000
DTSTAMP:20260421T125505
CREATED:20260421T062050Z
LAST-MODIFIED:20260421T063045Z
UID:1928-1781222400-1781222400@www.masciumbria.org
SUMMARY:Consiglio Nazionale
DESCRIPTION:
URL:https://www.masciumbria.org/event/consiglio-nazionale-6/
END:VEVENT
BEGIN:VEVENT
DTSTART;TZID=UTC:20260805T000000
DTEND;TZID=UTC:20260805T000000
DTSTAMP:20260421T125505
CREATED:20260421T062050Z
LAST-MODIFIED:20260421T063045Z
UID:1929-1785888000-1785888000@www.masciumbria.org
SUMMARY:Campo Bibbia
DESCRIPTION:
URL:https://www.masciumbria.org/event/campo-bibbia-5/
END:VEVENT
BEGIN:VEVENT
DTSTART;TZID=UTC:20260829T000000
DTEND;TZID=UTC:20260829T000000
DTSTAMP:20260421T125505
CREATED:20260421T062050Z
LAST-MODIFIED:20260421T063045Z
UID:1930-1787961600-1787961600@www.masciumbria.org
SUMMARY:I care
DESCRIPTION:
URL:https://www.masciumbria.org/event/i-care/
END:VEVENT
BEGIN:VEVENT
DTSTART;TZID=UTC:20260907T000000
DTEND;TZID=UTC:20260907T000000
DTSTAMP:20260421T125505
CREATED:20260421T062050Z
LAST-MODIFIED:20260421T063045Z
UID:1931-1788739200-1788739200@www.masciumbria.org
SUMMARY:Assistente Eclesiastico
DESCRIPTION:
URL:https://www.masciumbria.org/event/assistente-eclesiastico/
END:VEVENT
BEGIN:VEVENT
DTSTART;TZID=UTC:20260908T000000
DTEND;TZID=UTC:20260908T000000
DTSTAMP:20260421T125505
CREATED:20260421T062105Z
LAST-MODIFIED:20260421T063245Z
UID:1932-1788825600-1788825600@www.masciumbria.org
SUMMARY:Assistente Eclesiastico
DESCRIPTION:
URL:https://www.masciumbria.org/event/assistente-eclesiastico-2/
END:VEVENT
BEGIN:VEVENT
DTSTART;TZID=UTC:20260912T000000
DTEND;TZID=UTC:20260912T000000
DTSTAMP:20260421T125505
CREATED:20260421T062105Z
LAST-MODIFIED:20260421T063245Z
UID:1933-1789171200-1789171200@www.masciumbria.org
SUMMARY:I care
DESCRIPTION:
URL:https://www.masciumbria.org/event/i-care-2/
END:VEVENT
BEGIN:VEVENT
DTSTART;TZID=UTC:20260917T000000
DTEND;TZID=UTC:20260917T000000
DTSTAMP:20260421T125505
CREATED:20260421T062105Z
LAST-MODIFIED:20260421T063245Z
UID:1934-1789603200-1789603200@www.masciumbria.org
SUMMARY:Botteghe
DESCRIPTION:
URL:https://www.masciumbria.org/event/botteghe/
END:VEVENT
BEGIN:VEVENT
DTSTART;TZID=UTC:20260922T000000
DTEND;TZID=UTC:20260922T000000
DTSTAMP:20260421T125505
CREATED:20260421T062105Z
LAST-MODIFIED:20260421T063245Z
UID:1935-1790035200-1790035200@www.masciumbria.org
SUMMARY:Consiglio Nazionale
DESCRIPTION:
URL:https://www.masciumbria.org/event/consiglio-nazionale-7/
END:VEVENT
BEGIN:VEVENT
DTSTART;TZID=UTC:20261001T000000
DTEND;TZID=UTC:20261001T000000
DTSTAMP:20260421T125505
CREATED:20260421T062105Z
LAST-MODIFIED:20260421T063245Z
UID:1936-1790812800-1790812800@www.masciumbria.org
SUMMARY:scautismo adulto
DESCRIPTION:
URL:https://www.masciumbria.org/event/scautismo-adulto/
END:VEVENT
BEGIN:VEVENT
DTSTART;TZID=UTC:20261009T000000
DTEND;TZID=UTC:20261009T000000
DTSTAMP:20260421T125505
CREATED:20260421T062121Z
LAST-MODIFIED:20260421T063446Z
UID:1937-1791504000-1791504000@www.masciumbria.org
SUMMARY:Campo Pace
DESCRIPTION:
URL:https://www.masciumbria.org/event/campo-pace/
END:VEVENT
BEGIN:VEVENT
DTSTART;TZID=UTC:20261010T000000
DTEND;TZID=UTC:20261010T000000
DTSTAMP:20260421T125505
CREATED:20260421T062121Z
LAST-MODIFIED:20260421T063446Z
UID:1938-1791590400-1791590400@www.masciumbria.org
SUMMARY:Pace
DESCRIPTION:
URL:https://www.masciumbria.org/event/pace/
END:VEVENT
BEGIN:VEVENT
DTSTART;TZID=UTC:20261017T000000
DTEND;TZID=UTC:20261017T000000
DTSTAMP:20260421T125505
CREATED:20260421T062121Z
LAST-MODIFIED:20260421T091348Z
UID:1939-1792195200-1792195200@www.masciumbria.org
SUMMARY:Comitato Esecutivo
DESCRIPTION:
URL:https://www.masciumbria.org/event/comitato-esecutivo-4/
END:VEVENT
BEGIN:VEVENT
DTSTART;TZID=UTC:20261106T000000
DTEND;TZID=UTC:20261106T000000
DTSTAMP:20260421T125505
CREATED:20260421T062121Z
LAST-MODIFIED:20260421T063446Z
UID:1940-1793923200-1793923200@www.masciumbria.org
SUMMARY:Bottega segretari
DESCRIPTION:
URL:https://www.masciumbria.org/event/bottega-segretari-3/
END:VEVENT
BEGIN:VEVENT
DTSTART;TZID=UTC:20261114T000000
DTEND;TZID=UTC:20261114T000000
DTSTAMP:20260421T125505
CREATED:20260421T062121Z
LAST-MODIFIED:20260421T063446Z
UID:1941-1794614400-1794614400@www.masciumbria.org
SUMMARY:I care
DESCRIPTION:
URL:https://www.masciumbria.org/event/i-care-3/
END:VEVENT
BEGIN:VEVENT
DTSTART;TZID=UTC:20261121T000000
DTEND;TZID=UTC:20261121T000000
DTSTAMP:20260421T125505
CREATED:20260421T062206Z
LAST-MODIFIED:20260421T063646Z
UID:1942-1795219200-1795219200@www.masciumbria.org
SUMMARY:Consiglio Nazionale
DESCRIPTION:
URL:https://www.masciumbria.org/event/consiglio-nazionale-8/
END:VEVENT
END:VCALENDAR