BEGIN:VCALENDAR
VERSION:2.0
PRODID:-//Masci Umbria - ECPv6.14.2//NONSGML v1.0//EN
CALSCALE:GREGORIAN
METHOD:PUBLISH
X-ORIGINAL-URL:https://www.masciumbria.org
X-WR-CALDESC:Eventi per Masci Umbria
REFRESH-INTERVAL;VALUE=DURATION:PT1H
X-Robots-Tag:noindex
X-PUBLISHED-TTL:PT1H
BEGIN:VTIMEZONE
TZID:UTC
BEGIN:STANDARD
TZOFFSETFROM:+0000
TZOFFSETTO:+0000
TZNAME:UTC
DTSTART:20250101T000000
END:STANDARD
END:VTIMEZONE
BEGIN:VEVENT
DTSTART;TZID=UTC:20251011T000000
DTEND;TZID=UTC:20251012T235959
DTSTAMP:20260419T202145
CREATED:20250321T215642Z
LAST-MODIFIED:20250404T224817Z
UID:1406-1760140800-1760313599@www.masciumbria.org
SUMMARY:Campo animazione nord est
DESCRIPTION:Referente: Pattuglia Interregionale
URL:https://www.masciumbria.org/event/campo-animazione-nord-est-3/
LOCATION:Lignano (Friuli)
END:VEVENT
BEGIN:VEVENT
DTSTART;TZID=UTC:20251017T000000
DTEND;TZID=UTC:20251019T235959
DTSTAMP:20260419T202145
CREATED:20250404T224959Z
LAST-MODIFIED:20250404T224959Z
UID:1726-1760659200-1760918399@www.masciumbria.org
SUMMARY:I Care - Politica
DESCRIPTION:
URL:https://www.masciumbria.org/event/i-care-politica/
END:VEVENT
BEGIN:VEVENT
DTSTART;TZID=UTC:20251018T160000
DTEND;TZID=UTC:20251018T190000
DTSTAMP:20260419T202145
CREATED:20250925T112528Z
LAST-MODIFIED:20250925T112533Z
UID:1819-1760803200-1760814000@www.masciumbria.org
SUMMARY:RICONCILIAZIONE.
DESCRIPTION:CONVEGNO SULLA RICONCILIAZIONE con Dio / con me stesso / con la società / con la giustizia / con l’economia / con il creato \n\n\n\nAuditorium Sant Angelo – Piazza Umberto I\, Bastia Umbra (PG) \n\n\n\nSaluti Istituzionali:Claudio Stefanetti Segretario Regionale Masci UmbriaDon Cristiano Antonietti Assistente Ecclesiastico Regionale Masci UmbriaFrancesco Carpanacci Capo Gruppo AGESCI Bastia 1Elisa Zocchetti Assessora alle Politiche Sociali del Comune di Bastia Umbra \n\n\n\nIntroduce:Don Giovanni Zampa Vicario Generale Diocesi Assisi-Nocera Umbra-Gualdo Tadino e Foligno \n\n\n\nIntervengono:Silvia Bagnarelli Assistente Sociale Caritas Diocesi Perugia- Città della PieveSara Capponi Avvocato Caritas Diocesi Perugia-Città della PieveChiara Chiapperini Psicologa clinica – San Marco-PerugiaMaria Chibansa Branchetti Ambasciatrice Onoraria per lo Zambia per la riformulazione del debitoAntonio Caschetto Responsabile del Centro Laudato Si’ di Assisi \n\n\n\nConclude: Keren Ponzo Counselor filosofica – Università di Vienna \n\n\n\nModera: Giacomo Marinelli Andreoli Giornalista – Direttore Umbria TV
URL:https://www.masciumbria.org/event/riconciliazione/
ATTACH;FMTTYPE=image/jpeg:https://www.masciumbria.org/wp-content/uploads/2025/09/WhatsApp-Image-2025-09-22-at-19.56.42.jpeg
END:VEVENT
BEGIN:VEVENT
DTSTART;TZID=UTC:20251024T080000
DTEND;TZID=UTC:20251026T170000
DTSTAMP:20260419T202145
CREATED:20250404T225136Z
LAST-MODIFIED:20250404T225136Z
UID:1730-1761292800-1761498000@www.masciumbria.org
SUMMARY:Campo Animazione Nord Ovest
DESCRIPTION:
URL:https://www.masciumbria.org/event/campo-animazione-nord-ovest-2/
LOCATION:Alghero (Sardegna)
END:VEVENT
BEGIN:VEVENT
DTSTART;TZID=UTC:20251121T000000
DTEND;TZID=UTC:20251123T235959
DTSTAMP:20260419T202145
CREATED:20250404T225231Z
LAST-MODIFIED:20250404T225232Z
UID:1736-1763683200-1763942399@www.masciumbria.org
SUMMARY:Assemblea Nazionale
DESCRIPTION:
URL:https://www.masciumbria.org/event/assemblea-nazionale-2/
LOCATION:Pompei (campania)
END:VEVENT
BEGIN:VEVENT
DTSTART;TZID=UTC:20251212T000000
DTEND;TZID=UTC:20251214T235959
DTSTAMP:20260419T202145
CREATED:20250404T225324Z
LAST-MODIFIED:20250404T225325Z
UID:1740-1765497600-1765756799@www.masciumbria.org
SUMMARY:Consiglio Nazionale - 0
DESCRIPTION:
URL:https://www.masciumbria.org/event/consiglio-nazionale-0-3/
LOCATION:Lazio – Roma
END:VEVENT
END:VCALENDAR